BEGIN:VCALENDAR
VERSION:2.0
PRODID:-//Campo da golf del Lago di Millstatt - ECPv6.15.20//NONSGML v1.0//EN
CALSCALE:GREGORIAN
METHOD:PUBLISH
X-ORIGINAL-URL:https://golf-millstatt.at
X-WR-CALDESC:Eventi per il campo da golf Millstätter See
REFRESH-INTERVAL;VALUE=DURATION:PT1H
X-Robots-Tag:noindex
X-PUBLISHED-TTL:PT1H
BEGIN:VTIMEZONE
TZID:UTC
BEGIN:STANDARD
TZOFFSETFROM:+0000
TZOFFSETTO:+0000
TZNAME:UTC
DTSTART:20250101T000000
END:STANDARD
END:VTIMEZONE
BEGIN:VEVENT
DTSTART;VALUE=DATE:20261010
DTEND;VALUE=DATE:20261011
DTSTAMP:20260420T200303
CREATED:20230417T162336Z
LAST-MODIFIED:20260217T090244Z
UID:21597-1791590400-1791676799@golf-millstatt.at
SUMMARY:Finale Teammasters
DESCRIPTION:Per l'iscrizione online
URL:https://golf-millstatt.at/turnier/teammasters-finale/
LOCATION:Golf Club Millstätter See\, Am Golfplatz 1\, Millstatt\, Carinzia\, 9872\, Austria\
CATEGORIES:Teammasters\
ATTACH;FMTTYPE=image/png:https://golf-millstatt.at/wp-content/uploads/2023/04/Golfball_Logo_Turniere.png
ORGANIZZATORE;CN="Golf Club Millstätter See":MAILTO:office@golf-millstatt.at\
FINE:VEVENT\
INIZIO:VEVENT\
DTSTART;VALUE=DATE:20261011\
DTEND;VALUE=DATE:20261012
DTSTAMP:20260420T200303
CREATED:20230417T162356Z
LAST-MODIFIED:20260217T090322Z
UID:21599-1791676800-1791763199@golf-millstatt.at
SUMMARY:Finale Teammasters
DESCRIPTION:Per l'iscrizione online
URL:https://golf-millstatt.at/turnier/teammasters-finale-2/
LOCATION:Golf Club Millstätter See\, Am Golfplatz 1\, Millstatt\, Carinzia\, 9872\, Austria
CATEGORIES:Teammasters
ATTACH;FMTTYPE=image/png:https://golf-millstatt.at/wp-content/uploads/2023/04/Golfball_Logo_Turniere.png
ORGANIZER;CN="Golf Club Millstätter See":MAILTO:office@golf-millstatt.at
END:VEVENT
BEGIN:VEVENT
DTSTART;VALUE=DATE:20261024
DTEND;VALUE=DATE:20261025
DTSTAMP:20260420T200303
CREATED:20230407T071210Z
LAST-MODIFIED:20260217T090502Z
UID:20797-1792800000-1792886399@golf-millstatt.at
SUMMARY:Torneo finale
DESCRIPTION:Per l'iscrizione online
URL:https://golf-millstatt.at/turnier/abschlussturnier/\
LOCATION:Golf Club Millstätter See\, Am Golfplatz 1\, Millstatt\, Carinzia\, 9872\, Austria\
CATEGORIES:Tornei Millstatt\
ATTACH;FMTTYPE=image/png:https://golf-millstatt.at/wp-content/uploads/2023/04/Golfball_Logo_Turniere.png
ORGANIZER;CN="Golf Club Millstätter See":MAILTO:office@golf-millstatt.at
END:VEVENT
END:VCALENDAR