BEGIN:VCALENDAR
VERSION:2.0
PRODID:-//Golfanlage Millstätter See - ECPv6.15.20//NONSGML v1.0//EN
CALSCALE:GREGORIAN
METHOD:PUBLISH
X-ORIGINAL-URL:https://golf-millstatt.at
X-WR-CALDESC:Veranstaltungen für Golfanlage Millstätter See
REFRESH-INTERVAL;VALUE=DURATION:PT1H
X-Robots-Tag:noindex
X-PUBLISHED-TTL:PT1H
BEGIN:VTIMEZONE
TZID:UTC
BEGIN:STANDARD
TZOFFSETFROM:+0000
TZOFFSETTO:+0000
TZNAME:UTC
DTSTART:20250101T000000
END:STANDARD
END:VTIMEZONE
BEGIN:VEVENT
DTSTART;VALUE=DATE:20260523
DTEND;VALUE=DATE:20260524
DTSTAMP:20260424T154521
CREATED:20260217T082938Z
LAST-MODIFIED:20260217T082938Z
UID:24072-1779494400-1779580799@golf-millstatt.at
SUMMARY:3. Austrian Juniors Golf Tour presented by Bernd Wiesberger U14\, U16\, U18
DESCRIPTION:Zur Online-Anmeldung
URL:https://golf-millstatt.at/turnier/3-austrian-juniors-golf-tour-presented-by-bernd-wiesberger-u14-u16-u18/
LOCATION:Golf Club Millstätter See\, Am Golfplatz 1\, Millstatt\, Kärnten\, 9872\, Österreich
CATEGORIES:Turniere Millstatt
ATTACH;FMTTYPE=image/png:https://golf-millstatt.at/wp-content/uploads/2023/04/Golfball_Logo_Turniere.png
ORGANIZER;CN="Golf Club Millst%C3%A4tter See":MAILTO:office@golf-millstatt.at
END:VEVENT
BEGIN:VEVENT
DTSTART;VALUE=DATE:20260523
DTEND;VALUE=DATE:20260524
DTSTAMP:20260424T154521
CREATED:20260217T083125Z
LAST-MODIFIED:20260217T083125Z
UID:24074-1779494400-1779580799@golf-millstatt.at
SUMMARY:3. Austrian Juniors Golf Tour presented by Bernd Wiesberger U12
DESCRIPTION:Zur Online-Anmeldung
URL:https://golf-millstatt.at/turnier/3-austrian-juniors-golf-tour-presented-by-bernd-wiesberger-u12/
LOCATION:Golf Club Millstätter See\, Am Golfplatz 1\, Millstatt\, Kärnten\, 9872\, Österreich
CATEGORIES:Turniere Millstatt
ATTACH;FMTTYPE=image/png:https://golf-millstatt.at/wp-content/uploads/2023/04/Golfball_Logo_Turniere.png
ORGANIZER;CN="Golf Club Millst%C3%A4tter See":MAILTO:office@golf-millstatt.at
END:VEVENT
END:VCALENDAR