BEGIN:VCALENDAR
VERSION:2.0
PRODID:-//Golfanlage Millstätter See - ECPv6.15.20//NONSGML v1.0//EN
CALSCALE:GREGORIAN
METHOD:PUBLISH
X-ORIGINAL-URL:https://golf-millstatt.at
X-WR-CALDESC:Veranstaltungen für Golfanlage Millstätter See
REFRESH-INTERVAL;VALUE=DURATION:PT1H
X-Robots-Tag:noindex
X-PUBLISHED-TTL:PT1H
BEGIN:VTIMEZONE
TZID:UTC
BEGIN:STANDARD
TZOFFSETFROM:+0000
TZOFFSETTO:+0000
TZNAME:UTC
DTSTART:20250101T000000
END:STANDARD
END:VTIMEZONE
BEGIN:VEVENT
DTSTART;VALUE=DATE:20260620
DTEND;VALUE=DATE:20260621
DTSTAMP:20260424T172427
CREATED:20250218T130857Z
LAST-MODIFIED:20260306T151815Z
UID:23626-1781913600-1781999999@golf-millstatt.at
SUMMARY:2. Millstätter See Trophy BLAU-WEISS
DESCRIPTION:Zur Online-Anmeldung
URL:https://golf-millstatt.at/turnier/2-millstaetter-see-trophy-blau-weiss/
LOCATION:Golf Club Millstätter See\, Am Golfplatz 1\, Millstatt\, Kärnten\, 9872\, Österreich
CATEGORIES:COM CUP,Turniere Millstatt
ATTACH;FMTTYPE=image/png:https://golf-millstatt.at/wp-content/uploads/2023/04/Golfball_Logo_Turniere.png
ORGANIZER;CN="Golf Club Millst%C3%A4tter See":MAILTO:office@golf-millstatt.at
END:VEVENT
END:VCALENDAR