BEGIN:VCALENDAR
VERSION:2.0
PRODID:-//Golfanlage Millstätter See - ECPv6.15.20//NONSGML v1.0//EN
CALSCALE:GREGORIAN
METHOD:PUBLISH
X-ORIGINAL-URL:https://golf-millstatt.at
X-WR-CALDESC:Veranstaltungen für Golfanlage Millstätter See
REFRESH-INTERVAL;VALUE=DURATION:PT1H
X-Robots-Tag:noindex
X-PUBLISHED-TTL:PT1H
BEGIN:VTIMEZONE
TZID:UTC
BEGIN:STANDARD
TZOFFSETFROM:+0000
TZOFFSETTO:+0000
TZNAME:UTC
DTSTART:20250101T000000
END:STANDARD
END:VTIMEZONE
BEGIN:VEVENT
DTSTART;VALUE=DATE:20260606
DTEND;VALUE=DATE:20260607
DTSTAMP:20260424T154642
CREATED:20230417T142607Z
LAST-MODIFIED:20260306T151753Z
UID:21558-1780704000-1780790399@golf-millstatt.at
SUMMARY:Reisssser Turnier powered by Volksbank Kärnten
DESCRIPTION:Zur Online-Anmeldung
URL:https://golf-millstatt.at/turnier/reisssser-turnier-powered-by-volksbank-kaernten/
LOCATION:Golf Club Millstätter See\, Am Golfplatz 1\, Millstatt\, Kärnten\, 9872\, Österreich
CATEGORIES:COM CUP,Turniere Millstatt
ATTACH;FMTTYPE=image/png:https://golf-millstatt.at/wp-content/uploads/2023/04/Volksbank_Logo_Turniere.png
ORGANIZER;CN="Golf Club Millst%C3%A4tter See":MAILTO:office@golf-millstatt.at
END:VEVENT
BEGIN:VEVENT
DTSTART;VALUE=DATE:20260609
DTEND;VALUE=DATE:20260610
DTSTAMP:20260424T154642
CREATED:20230417T142311Z
LAST-MODIFIED:20260217T083943Z
UID:21556-1780963200-1781049599@golf-millstatt.at
SUMMARY:Kärntner Damencup
DESCRIPTION:Zur Online-Anmeldung
URL:https://golf-millstatt.at/turnier/kaerntner-damencup/
LOCATION:Golf Club Millstätter See\, Am Golfplatz 1\, Millstatt\, Kärnten\, 9872\, Österreich
CATEGORIES:Turniere Millstatt
ATTACH;FMTTYPE=image/png:https://golf-millstatt.at/wp-content/uploads/2023/04/Golfball_Logo_Turniere.png
ORGANIZER;CN="Golf Club Millst%C3%A4tter See":MAILTO:office@golf-millstatt.at
END:VEVENT
BEGIN:VEVENT
DTSTART;VALUE=DATE:20260611
DTEND;VALUE=DATE:20260612
DTSTAMP:20260424T154642
CREATED:20230417T142736Z
LAST-MODIFIED:20260217T084112Z
UID:21561-1781136000-1781222399@golf-millstatt.at
SUMMARY:Strawberry Tour
DESCRIPTION:Zur Online-Anmeldung
URL:https://golf-millstatt.at/turnier/strawberry-tour/
LOCATION:Golf Club Millstätter See\, Am Golfplatz 1\, Millstatt\, Kärnten\, 9872\, Österreich
CATEGORIES:Turniere Millstatt
ATTACH;FMTTYPE=image/jpeg:https://golf-millstatt.at/wp-content/uploads/2023/04/Strawberry.jpg
ORGANIZER;CN="Golf Club Millst%C3%A4tter See":MAILTO:office@golf-millstatt.at
END:VEVENT
BEGIN:VEVENT
DTSTART;VALUE=DATE:20260613
DTEND;VALUE=DATE:20260614
DTSTAMP:20260424T154642
CREATED:20230417T141849Z
LAST-MODIFIED:20260306T151806Z
UID:21552-1781308800-1781395199@golf-millstatt.at
SUMMARY:Kiwanis Turnier
DESCRIPTION:Zur Online-Anmeldung
URL:https://golf-millstatt.at/turnier/kiwanis-turnier/
LOCATION:Golf Club Millstätter See\, Am Golfplatz 1\, Millstatt\, Kärnten\, 9872\, Österreich
CATEGORIES:COM CUP,Turniere Millstatt
ATTACH;FMTTYPE=image/png:https://golf-millstatt.at/wp-content/uploads/2023/04/Kiwanis_Logo_Turniere.png
ORGANIZER;CN="Golf Club Millst%C3%A4tter See":MAILTO:office@golf-millstatt.at
END:VEVENT
BEGIN:VEVENT
DTSTART;VALUE=DATE:20260620
DTEND;VALUE=DATE:20260621
DTSTAMP:20260424T154642
CREATED:20250218T130857Z
LAST-MODIFIED:20260306T151815Z
UID:23626-1781913600-1781999999@golf-millstatt.at
SUMMARY:2. Millstätter See Trophy BLAU-WEISS
DESCRIPTION:Zur Online-Anmeldung
URL:https://golf-millstatt.at/turnier/2-millstaetter-see-trophy-blau-weiss/
LOCATION:Golf Club Millstätter See\, Am Golfplatz 1\, Millstatt\, Kärnten\, 9872\, Österreich
CATEGORIES:COM CUP,Turniere Millstatt
ATTACH;FMTTYPE=image/png:https://golf-millstatt.at/wp-content/uploads/2023/04/Golfball_Logo_Turniere.png
ORGANIZER;CN="Golf Club Millst%C3%A4tter See":MAILTO:office@golf-millstatt.at
END:VEVENT
BEGIN:VEVENT
DTSTART;VALUE=DATE:20260627
DTEND;VALUE=DATE:20260628
DTSTAMP:20260424T154642
CREATED:20260217T084800Z
LAST-MODIFIED:20260217T090616Z
UID:24084-1782518400-1782604799@golf-millstatt.at
SUMMARY:RHI Magnesita Turnier
DESCRIPTION:Zur Online-Anmeldung
URL:https://golf-millstatt.at/turnier/rhi-magnesita-turnier/
LOCATION:Golf Club Millstätter See\, Am Golfplatz 1\, Millstatt\, Kärnten\, 9872\, Österreich
CATEGORIES:Turniere Millstatt
ATTACH;FMTTYPE=image/png:https://golf-millstatt.at/wp-content/uploads/2026/02/RHI-MAGNESITA-Logo.png
ORGANIZER;CN="Golf Club Millst%C3%A4tter See":MAILTO:office@golf-millstatt.at
END:VEVENT
END:VCALENDAR