BEGIN:VCALENDAR
VERSION:2.0
PRODID:-//Golfanlage Millstätter See - ECPv6.15.20//NONSGML v1.0//EN
CALSCALE:GREGORIAN
METHOD:PUBLISH
X-WR-CALNAME:Golfanlage Millstätter See
X-ORIGINAL-URL:https://golf-millstatt.at
X-WR-CALDESC:Veranstaltungen für Golfanlage Millstätter See
REFRESH-INTERVAL;VALUE=DURATION:PT1H
X-Robots-Tag:noindex
X-PUBLISHED-TTL:PT1H
BEGIN:VTIMEZONE
TZID:UTC
BEGIN:STANDARD
TZOFFSETFROM:+0000
TZOFFSETTO:+0000
TZNAME:UTC
DTSTART:20250101T000000
END:STANDARD
END:VTIMEZONE
BEGIN:VEVENT
DTSTART;VALUE=DATE:20260711
DTEND;VALUE=DATE:20260712
DTSTAMP:20260424T174136
CREATED:20230417T143418Z
LAST-MODIFIED:20260306T151822Z
UID:21569-1783728000-1783814399@golf-millstatt.at
SUMMARY:NiCis Restaurant und Golfschule Paul Thompson
DESCRIPTION:Zur Online-Anmeldung
URL:https://golf-millstatt.at/turnier/nicis-restaurant-und-golfschule-paul-thompson/
LOCATION:Golf Club Millstätter See\, Am Golfplatz 1\, Millstatt\, Kärnten\, 9872\, Österreich
CATEGORIES:COM CUP,Turniere Millstatt
ATTACH;FMTTYPE=image/png:https://golf-millstatt.at/wp-content/uploads/2023/04/Nicis-Paul_Logo_Turniere.png
ORGANIZER;CN="Golf Club Millst%C3%A4tter See":MAILTO:office@golf-millstatt.at
END:VEVENT
BEGIN:VEVENT
DTSTART;VALUE=DATE:20260716
DTEND;VALUE=DATE:20260717
DTSTAMP:20260424T174136
CREATED:20230417T142802Z
LAST-MODIFIED:20260217T085124Z
UID:21563-1784160000-1784246399@golf-millstatt.at
SUMMARY:Strawberry Tour
DESCRIPTION:Zur Online-Anmeldung
URL:https://golf-millstatt.at/turnier/strawberry-tour-2/
LOCATION:Golf Club Millstätter See\, Am Golfplatz 1\, Millstatt\, Kärnten\, 9872\, Österreich
CATEGORIES:Turniere Millstatt
ATTACH;FMTTYPE=image/jpeg:https://golf-millstatt.at/wp-content/uploads/2023/04/Strawberry.jpg
ORGANIZER;CN="Golf Club Millst%C3%A4tter See":MAILTO:office@golf-millstatt.at
END:VEVENT
BEGIN:VEVENT
DTSTART;VALUE=DATE:20260722
DTEND;VALUE=DATE:20260723
DTSTAMP:20260424T174136
CREATED:20230417T143524Z
LAST-MODIFIED:20260217T085218Z
UID:21572-1784678400-1784764799@golf-millstatt.at
SUMMARY:Schüler Golfcup
DESCRIPTION:Zur Online-Anmeldung
URL:https://golf-millstatt.at/turnier/schueler-golfcup/
LOCATION:Golf Club Millstätter See\, Am Golfplatz 1\, Millstatt\, Kärnten\, 9872\, Österreich
CATEGORIES:Turniere Millstatt
ATTACH;FMTTYPE=image/png:https://golf-millstatt.at/wp-content/uploads/2023/04/Golfball_Logo_Turniere.png
ORGANIZER;CN="Golf Club Millst%C3%A4tter See":MAILTO:office@golf-millstatt.at
END:VEVENT
END:VCALENDAR