BEGIN:VCALENDAR
VERSION:2.0
PRODID:-//Golfanlage Millstätter See - ECPv6.15.20//NONSGML v1.0//EN
CALSCALE:GREGORIAN
METHOD:PUBLISH
X-ORIGINAL-URL:https://golf-millstatt.at
X-WR-CALDESC:Veranstaltungen für Golfanlage Millstätter See
REFRESH-INTERVAL;VALUE=DURATION:PT1H
X-Robots-Tag:noindex
X-PUBLISHED-TTL:PT1H
BEGIN:VTIMEZONE
TZID:UTC
BEGIN:STANDARD
TZOFFSETFROM:+0000
TZOFFSETTO:+0000
TZNAME:UTC
DTSTART:20250101T000000
END:STANDARD
END:VTIMEZONE
BEGIN:VEVENT
DTSTART;VALUE=DATE:20260808
DTEND;VALUE=DATE:20260809
DTSTAMP:20260424T192502
CREATED:20260217T085419Z
LAST-MODIFIED:20260306T151831Z
UID:24090-1786147200-1786233599@golf-millstatt.at
SUMMARY:30 Jahre Golfclub Millstätter See
DESCRIPTION:Zur Online-Anmeldung
URL:https://golf-millstatt.at/turnier/30-jahre-golfclub-millstaetter-see/
LOCATION:Golf Club Millstätter See\, Am Golfplatz 1\, Millstatt\, Kärnten\, 9872\, Österreich
CATEGORIES:COM CUP,Turniere Millstatt
ATTACH;FMTTYPE=image/png:https://golf-millstatt.at/wp-content/uploads/2023/04/Golfball_Logo_Turniere.png
ORGANIZER;CN="Golf Club Millst%C3%A4tter See":MAILTO:office@golf-millstatt.at
END:VEVENT
BEGIN:VEVENT
DTSTART;VALUE=DATE:20260811
DTEND;VALUE=DATE:20260812
DTSTAMP:20260424T192502
CREATED:20230417T161750Z
LAST-MODIFIED:20260217T085547Z
UID:21588-1786406400-1786492799@golf-millstatt.at
SUMMARY:Kärntner Seniorencup
DESCRIPTION:Zur Online-Anmeldung
URL:https://golf-millstatt.at/turnier/kaerntner-seniorencup/
LOCATION:Golf Club Millstätter See\, Am Golfplatz 1\, Millstatt\, Kärnten\, 9872\, Österreich
CATEGORIES:Turniere Millstatt
ATTACH;FMTTYPE=image/png:https://golf-millstatt.at/wp-content/uploads/2023/04/Golfball_Logo_Turniere.png
ORGANIZER;CN="Golf Club Millst%C3%A4tter See":MAILTO:office@golf-millstatt.at
END:VEVENT
BEGIN:VEVENT
DTSTART;VALUE=DATE:20260820
DTEND;VALUE=DATE:20260821
DTSTAMP:20260424T192502
CREATED:20230417T142830Z
LAST-MODIFIED:20260217T085651Z
UID:21565-1787184000-1787270399@golf-millstatt.at
SUMMARY:Strawberry Tour
DESCRIPTION:Zur Online-Anmeldung
URL:https://golf-millstatt.at/turnier/strawberry-tour-3/
LOCATION:Golf Club Millstätter See\, Am Golfplatz 1\, Millstatt\, Kärnten\, 9872\, Österreich
CATEGORIES:Turniere Millstatt
ATTACH;FMTTYPE=image/jpeg:https://golf-millstatt.at/wp-content/uploads/2023/04/Strawberry.jpg
ORGANIZER;CN="Golf Club Millst%C3%A4tter See":MAILTO:office@golf-millstatt.at
END:VEVENT
BEGIN:VEVENT
DTSTART;VALUE=DATE:20260822
DTEND;VALUE=DATE:20260824
DTSTAMP:20260424T192502
CREATED:20230417T161439Z
LAST-MODIFIED:20260217T085812Z
UID:21580-1787356800-1787529599@golf-millstatt.at
SUMMARY:Clubmeisterschaften über 2 Tage
DESCRIPTION:Zur Online-Anmeldung
URL:https://golf-millstatt.at/turnier/clubmeisterschaften-ueber-2-tage/
LOCATION:Golf Club Millstätter See\, Am Golfplatz 1\, Millstatt\, Kärnten\, 9872\, Österreich
CATEGORIES:Turniere Millstatt
ATTACH;FMTTYPE=image/png:https://golf-millstatt.at/wp-content/uploads/2023/04/Golfball_Logo_Turniere.png
ORGANIZER;CN="Golf Club Millst%C3%A4tter See":MAILTO:office@golf-millstatt.at
END:VEVENT
BEGIN:VEVENT
DTSTART;VALUE=DATE:20260823
DTEND;VALUE=DATE:20260824
DTSTAMP:20260424T192502
CREATED:20230417T161542Z
LAST-MODIFIED:20260217T085928Z
UID:21582-1787443200-1787529599@golf-millstatt.at
SUMMARY:Clubmeisterschaften Stableford
DESCRIPTION:Zur Online-Anmeldung
URL:https://golf-millstatt.at/turnier/clubmeisterschaften-stableford/
LOCATION:Golf Club Millstätter See\, Am Golfplatz 1\, Millstatt\, Kärnten\, 9872\, Österreich
CATEGORIES:Turniere Millstatt
ATTACH;FMTTYPE=image/png:https://golf-millstatt.at/wp-content/uploads/2023/04/Golfball_Logo_Turniere.png
ORGANIZER;CN="Golf Club Millst%C3%A4tter See":MAILTO:office@golf-millstatt.at
END:VEVENT
BEGIN:VEVENT
DTSTART;VALUE=DATE:20260823
DTEND;VALUE=DATE:20260824
DTSTAMP:20260424T192502
CREATED:20250218T154434Z
LAST-MODIFIED:20260217T085849Z
UID:23641-1787443200-1787529599@golf-millstatt.at
SUMMARY:Clubmeisterschaften Super Senioren
DESCRIPTION:Zur Online-Anmeldung
URL:https://golf-millstatt.at/turnier/clubmeisterschaften-super-senioren/
LOCATION:Golf Club Millstätter See\, Am Golfplatz 1\, Millstatt\, Kärnten\, 9872\, Österreich
CATEGORIES:Turniere Millstatt
ATTACH;FMTTYPE=image/png:https://golf-millstatt.at/wp-content/uploads/2023/04/Golfball_Logo_Turniere.png
ORGANIZER;CN="Golf Club Millst%C3%A4tter See":MAILTO:office@golf-millstatt.at
END:VEVENT
END:VCALENDAR